BEGIN:VCALENDAR
VERSION:2.0
PRODID:sbir-dev-acsf.cancer.gov
BEGIN:VEVENT
UID:69e5aca515777
DTSTART:20231009T160000Z
SEQUENCE:0
TRANSP:OPAQUE
DTEND:20231012T010000Z
SUMMARY:Connect with NCI SBIR at MedTech 2023
CLASS:PUBLIC
DESCRIPTION: Are you attending MedTech 2023? Come by the NIH booth area 700
  and meet NCI SBIR program Director Monique Pond\, PhD to discuss funding 
 opportunities and commercialization resources for researchers like you. Yo
 u may also schedule a one-on-one meeting with the NCI SBIR team through th
 e MyMedTech app.
DTSTAMP:20260420T043341Z
END:VEVENT
END:VCALENDAR