BEGIN:VCALENDAR
VERSION:2.0
PRODID:sbir-dev-acsf.cancer.gov
BEGIN:VEVENT
UID:69eabcbe4296c
DTSTART:20230912T180000Z
SEQUENCE:0
TRANSP:OPAQUE
DTEND:20230912T193000Z
SUMMARY:NCI SBIR FY2024 Contract Solicitation Webinar
CLASS:PUBLIC
DESCRIPTION:To help potential offerors understand the 11 topics under the F
 Y2024 SBIR Contract Solicitation\, NCI SBIR is providing a Q&A Office Hour
  on Tuesday\, August 15\, at 2:00 pm ET. 
DTSTAMP:20260424T004342Z
END:VEVENT
END:VCALENDAR