BEGIN:VCALENDAR
VERSION:2.0
PRODID:sbir-dev-acsf.cancer.gov
BEGIN:VEVENT
UID:69e5aca56004c
DTSTART:20230823T160000Z
SEQUENCE:0
TRANSP:OPAQUE
DTEND:20230827T220000Z
LOCATION:Dallas\, Texas
SUMMARY:Meet NCI SBIR Team at NSBE Professional Development Conference
CLASS:PUBLIC
DESCRIPTION:Join us during the America’s Seed Fund session at the Nationa
 l Society of Black Engineers (NSBE)’s Professional Development Conferenc
 e!  NCI SBIR Program Directors Saroj Regmi and Swami Tripurani will be at
  the event to provide information on the funding opportunities and commerc
 ialization resources.
DTSTAMP:20260420T043341Z
END:VEVENT
END:VCALENDAR