BEGIN:VCALENDAR
VERSION:2.0
PRODID:sbir-dev-acsf.cancer.gov
BEGIN:VEVENT
UID:69e5aca574a2d
DTSTART:20230110T190000Z
SEQUENCE:0
TRANSP:OPAQUE
DTEND:20230110T200000Z
SUMMARY:FY2023 I-Corps at NIH Q&A Office Hour
CLASS:PUBLIC
DESCRIPTION:The I-Corps at NIH program aims to build your confidence and ab
 ility to create a comprehensive business model through individualized ment
 oring and guidance from experts in the bio-technology field. 
DTSTAMP:20260420T043341Z
END:VEVENT
END:VCALENDAR