BEGIN:VCALENDAR
VERSION:2.0
PRODID:sbir-dev-acsf.cancer.gov
BEGIN:VEVENT
UID:69e5aca557c7c
DTSTART:20221216T190000Z
SEQUENCE:0
TRANSP:OPAQUE
DTEND:20221216T210000Z
SUMMARY:NCI SBIR Office Hour
CLASS:PUBLIC
DESCRIPTION:An NCI SBIR Program Director will be available for a one-on-one
  conversation to help provide insight to current applicants\, potential ap
 plicants\, awardees\, or anyone else with questions regarding the NCI SBIR
  funding opportunities\, entrepreneurial resources and/or application supp
 ort. 
DTSTAMP:20260420T043341Z
END:VEVENT
END:VCALENDAR