BEGIN:VCALENDAR
VERSION:2.0
PRODID:sbir-dev-acsf.cancer.gov
BEGIN:VEVENT
UID:69e81bc101394
DTSTART:20220921T173000Z
SEQUENCE:0
TRANSP:OPAQUE
DTEND:20220921T190000Z
SUMMARY:FY2023 I-Corps at NIH Informational Webinar
CLASS:PUBLIC
DESCRIPTION:Register for the I-Corps at NIH webinar to learn how this entre
 preneurship training program will provide you with training to help you tr
 ansition from researcher to entrepreneur on your path towards commercializ
 ation.
DTSTAMP:20260422T005217Z
END:VEVENT
END:VCALENDAR