BEGIN:VCALENDAR
VERSION:2.0
PRODID:sbir-dev-acsf.cancer.gov
BEGIN:VEVENT
UID:69e81bc101072
DTSTART:20260505T180000Z
SEQUENCE:0
TRANSP:OPAQUE
DTEND:20260505T193000Z
SUMMARY:NCI SBIR/STTR Training and Entrepreneurship Program May 2026 Webina
 r
CLASS:PUBLIC
DESCRIPTION:Learn how the NCI SBIR/STTR Training and Entrepreneurship Progr
 am (STEP) provides entrepreneurship training and helps small businesses ap
 ply for Phase I Small Business Innovation Research (SBIR)/Small Business T
 echnology Transfer (STTR) funding. 
DTSTAMP:20260422T005217Z
END:VEVENT
END:VCALENDAR