BEGIN:VCALENDAR
VERSION:2.0
PRODID:sbir-dev-acsf.cancer.gov
BEGIN:VEVENT
UID:69e5aca516821
DTSTART:20241022T180000Z
SEQUENCE:0
TRANSP:OPAQUE
DTEND:20241022T180000Z
SUMMARY:NCI SBIR/STTR Training and Entrepreneurship Program (STEP) Q&A Webi
 nar
CLASS:PUBLIC
DESCRIPTION:Would you like answers to your questions about NCI SBIR's lates
 t program\, the SBIR/STTR Training and Entrepreneurship Program (STEP)\, a
 nswered before the submission portal closes on Friday\, November 1\, 2024\
 , at 5:00 p.m. ET? We encourage you to bring your questions to our NCI STE
 P Q&A Webinar on Tuesday\, October 22\, 2024\, at 2:00 p.m. ET. NCI Progra
 m Directors Melissa Li and Patti Weber and the EGC team will answer attend
 ee questions after providing a short program overview.
DTSTAMP:20260420T043341Z
END:VEVENT
END:VCALENDAR