BEGIN:VCALENDAR
VERSION:2.0
PRODID:sbir-dev-acsf.cancer.gov
BEGIN:VEVENT
UID:69e5aca50f21f
DTSTART:20241008T180000Z
SEQUENCE:0
TRANSP:OPAQUE
DTEND:20241008T180000Z
SUMMARY:NCI SBIR/STTR Training and Entrepreneurship Program (STEP) Informat
 ional Webinar
CLASS:PUBLIC
DESCRIPTION:Join us on Tuesday\, October 8\, 2024\, at 2:00 p.m. ET for an 
 informational webinar on NCI STEP. Register here to join the event and rec
 eive a detailed overview of this 2-stage\, 16-week program that will provi
 de NCI STEP coaches\, structured training\, and customized assistance for 
 participants.  After the program overview\, attendees will engage in a liv
 e Q&A with presenters.
DTSTAMP:20260420T043341Z
END:VEVENT
END:VCALENDAR