BEGIN:VCALENDAR
VERSION:2.0
PRODID:sbir-dev-acsf.cancer.gov
BEGIN:VEVENT
UID:69eabcbdde400
DTSTART:20240917T170000Z
SEQUENCE:0
TRANSP:OPAQUE
DTEND:20240917T190000Z
LOCATION:San Francisco\, California
SUMMARY:NCI SBIR at Biocom California
CLASS:PUBLIC
DESCRIPTION:Biotech innovators in the bay area have the chance to learn mor
 e about the NCI SBIR program at a free event held at Biocom California. On
  Tuesday\, September 17\, 2024\, at 11:00 am PT\, Program Director Ming Zh
 ao will present an overview of SBIR/STTR programs and resources set to sup
 port startup companies developing cancer technologies and practical strate
 gies on how to successfully submit competitive research proposals. After t
 he presentation\, Attendees can participate in a Q&A and select companies 
 will proceed to their one-on-one meeting with Ming Zhao.
DTSTAMP:20260424T004341Z
END:VEVENT
END:VCALENDAR