BEGIN:VCALENDAR
VERSION:2.0
PRODID:sbir-dev-acsf.cancer.gov
BEGIN:VEVENT
UID:69e601c9290a3
DTSTART:20240912T123000Z
SEQUENCE:0
TRANSP:OPAQUE
DTEND:20240912T203000Z
SUMMARY:NCI Conference on Bioelectricity and Cancer
CLASS:PUBLIC
DESCRIPTION:On Thursday\, September 12\, 2024\, NCI brings together leading
  experts for a virtual conference to explore the electrical dimensions of 
 cancer. The free event will feature Michael Levin as the keynote speaker a
 nd several sessions on Bioelectricity and Cancer. NCI SBIR program directo
 r Linda Zane will be on the panel discussion\, ‘Moving Cancer Bioelectri
 city Research Forward’ to present how NCI SBIR program and commercializa
 tion resources can support small businesses take their cancer technologies
  to market.
DTSTAMP:20260420T103657Z
END:VEVENT
END:VCALENDAR