BEGIN:VCALENDAR
VERSION:2.0
PRODID:sbir-dev-acsf.cancer.gov
BEGIN:VEVENT
UID:69e5aca53f6a5
DTSTART:20240731T184045Z
SEQUENCE:0
TRANSP:OPAQUE
DTEND:20240801T184045Z
LOCATION:Indianapolis\, Indiana
SUMMARY:NCI Funding Bootcamp in Indianapolis
CLASS:PUBLIC
DESCRIPTION:During the Indiana Health Industry Forum\, NCI SBIR Director Mi
 chael Weingarten\, Program Director William Booza\, and Director of Invest
 or Relations Brittany Connors will present on funding resources to help ca
 ncer technology researchers bring their ideas from the lab to market. Duri
 ng the 2-day event\, attendees will have the opportunity  will also have t
 he chance to network with peers\, participate in pitch sessions\, and meet
  one-on-one with the NCI SBIR team.
DTSTAMP:20260420T043341Z
END:VEVENT
END:VCALENDAR