BEGIN:VCALENDAR
VERSION:2.0
PRODID:sbir-dev-acsf.cancer.gov
BEGIN:VEVENT
UID:69e81bc101076
DTSTART:20240620T180000Z
SEQUENCE:0
TRANSP:OPAQUE
DTEND:20240620T190000Z
SUMMARY:2024 Small Business Transition Grant Q&A Webinar
CLASS:PUBLIC
DESCRIPTION:Join us for the Q&A webinar on Thursday\, June 20\, 2024\, at 2
 :00 p.m. ET\, where program director\, Saroj Regmi will deliver a brief ov
 erview of the Small Business Transition Grant and address questions from t
 he attendees. The application deadline date is on Thursday\, August 22\, 2
 024. 
DTSTAMP:20260422T005217Z
END:VEVENT
END:VCALENDAR