BEGIN:VCALENDAR
VERSION:2.0
PRODID:sbir-dev-acsf.cancer.gov
BEGIN:VEVENT
UID:69e4e002e6af9
DTSTART:20240523T180000Z
SEQUENCE:0
TRANSP:OPAQUE
DTEND:20240523T190000Z
SUMMARY:2024 Innovative Concept Award Q&A Webinar
CLASS:PUBLIC
DESCRIPTION: Bring your questions to the second session on the innovative c
 oncept award on Thursday\, May 23\, 2024 at 2:00 p.m. ET. NCI SBIR Program
  Director William Bozza and program experts from participating NIH DEA wil
 l provide a brief presentation and answer questions from the audience. Reg
 ister here to join the webinar.The NCI SBIR Innovative Concept Award offer
 s up to $300\,000 to small businesses to develop highly transformative tec
 hnologies that have the potential to create new scientific paradigms for p
 ediatric and/or rare cancers (See here for the definition of rare cancer).
DTSTAMP:20260419T140034Z
END:VEVENT
END:VCALENDAR